BEGIN:VCALENDAR
VERSION:2.0
PRODID:-//French Tech Côte d&#039;Azur - ECPv6.15.20//NONSGML v1.0//EN
CALSCALE:GREGORIAN
METHOD:PUBLISH
X-WR-CALNAME:French Tech Côte d&#039;Azur
X-ORIGINAL-URL:https://www.frenchtechcotedazur.fr
X-WR-CALDESC:Évènements pour French Tech Côte d&#039;Azur
REFRESH-INTERVAL;VALUE=DURATION:PT1H
X-Robots-Tag:noindex
X-PUBLISHED-TTL:PT1H
BEGIN:VTIMEZONE
TZID:Europe/Paris
BEGIN:DAYLIGHT
TZOFFSETFROM:+0100
TZOFFSETTO:+0200
TZNAME:CEST
DTSTART:20220327T010000
END:DAYLIGHT
BEGIN:STANDARD
TZOFFSETFROM:+0200
TZOFFSETTO:+0100
TZNAME:CET
DTSTART:20221030T010000
END:STANDARD
BEGIN:DAYLIGHT
TZOFFSETFROM:+0100
TZOFFSETTO:+0200
TZNAME:CEST
DTSTART:20230326T010000
END:DAYLIGHT
BEGIN:STANDARD
TZOFFSETFROM:+0200
TZOFFSETTO:+0100
TZNAME:CET
DTSTART:20231029T010000
END:STANDARD
BEGIN:DAYLIGHT
TZOFFSETFROM:+0100
TZOFFSETTO:+0200
TZNAME:CEST
DTSTART:20240331T010000
END:DAYLIGHT
BEGIN:STANDARD
TZOFFSETFROM:+0200
TZOFFSETTO:+0100
TZNAME:CET
DTSTART:20241027T010000
END:STANDARD
END:VTIMEZONE
BEGIN:VEVENT
DTSTART;TZID=Europe/Paris:20230320T170000
DTEND;TZID=Europe/Paris:20230320T183000
DTSTAMP:20260423T083302
CREATED:20230224T152604Z
LAST-MODIFIED:20230224T152604Z
UID:4338-1679331600-1679337000@www.frenchtechcotedazur.fr
SUMMARY:Atelier Professionnel Orange Digital Center - Savoir travailler sa visibilité digitale
DESCRIPTION:Atelier Orange « Savoir travailler sa visibilité digitale » réservé aux professionnels \nUn atelier gratuit sur inscription animé par un expert Orange \n🗓 Lundi 20 mars 2023 de 17h00 à 18h30 \n📍Lieu de l’atelier : French Tech Côte d’Azur\, 9 rue d’Italie\, 06000 Nice \nVous pouvez vous inscrire en remplissant le formulaire en cliquant ici.
URL:https://www.frenchtechcotedazur.fr/event/atelier-professionnel-orange-digital-center-savoir-travailler-sa-visibilite-digitale/
ATTACH;FMTTYPE=image/png:https://www.frenchtechcotedazur.fr/wp-content/uploads/2023/02/Atelier-pro-20032023.png
END:VEVENT
END:VCALENDAR