BEGIN:VCALENDAR
VERSION:2.0
PRODID:-//French Tech Côte d&#039;Azur - ECPv6.15.20//NONSGML v1.0//EN
CALSCALE:GREGORIAN
METHOD:PUBLISH
X-WR-CALNAME:French Tech Côte d&#039;Azur
X-ORIGINAL-URL:https://www.frenchtechcotedazur.fr
X-WR-CALDESC:Évènements pour French Tech Côte d&#039;Azur
REFRESH-INTERVAL;VALUE=DURATION:PT1H
X-Robots-Tag:noindex
X-PUBLISHED-TTL:PT1H
BEGIN:VTIMEZONE
TZID:Europe/Paris
BEGIN:DAYLIGHT
TZOFFSETFROM:+0100
TZOFFSETTO:+0200
TZNAME:CEST
DTSTART:20220327T010000
END:DAYLIGHT
BEGIN:STANDARD
TZOFFSETFROM:+0200
TZOFFSETTO:+0100
TZNAME:CET
DTSTART:20221030T010000
END:STANDARD
BEGIN:DAYLIGHT
TZOFFSETFROM:+0100
TZOFFSETTO:+0200
TZNAME:CEST
DTSTART:20230326T010000
END:DAYLIGHT
BEGIN:STANDARD
TZOFFSETFROM:+0200
TZOFFSETTO:+0100
TZNAME:CET
DTSTART:20231029T010000
END:STANDARD
BEGIN:DAYLIGHT
TZOFFSETFROM:+0100
TZOFFSETTO:+0200
TZNAME:CEST
DTSTART:20240331T010000
END:DAYLIGHT
BEGIN:STANDARD
TZOFFSETFROM:+0200
TZOFFSETTO:+0100
TZNAME:CET
DTSTART:20241027T010000
END:STANDARD
END:VTIMEZONE
BEGIN:VEVENT
DTSTART;TZID=Europe/Paris:20230317T180000
DTEND;TZID=Europe/Paris:20230319T180000
DTSTAMP:20260423T070825
CREATED:20230223T091750Z
LAST-MODIFIED:20230223T091750Z
UID:4293-1679076000-1679248800@www.frenchtechcotedazur.fr
SUMMARY:Créathon 48h chrono
DESCRIPTION:Vous souhaitez donner un coup de boost à votre projet ou vous impliquer dans un projet qui a un impact positif sur notre territoire? Le créathon du 17 au 19 mars est fait pour vous ! \nL’événement\, gratuit\, est ouvert à tous ceux qui souhaitent donner un coup de boost à leur projet ou s’impliquer dans un projet qui a un impact positif sur notre territoire. \nProgramme : \n\nVendredi 17 mars 18h-21h : Création des équipes\, Key Note (invité surprise) et apéritif dinatoire\nSamedi 18 mars 8h-18h : Travail sur projets encadrés de mentors et coachs\nDimanche 19 mars 8h-18h : Finalisation projet\, entrainement pitch\, jury et Cérémonie\n\nInformations et inscription en cliquant ici.
URL:https://www.frenchtechcotedazur.fr/event/creathon-48h-chrono/
ATTACH;FMTTYPE=image/jpeg:https://www.frenchtechcotedazur.fr/wp-content/uploads/2023/02/1675955902501.jpg
END:VEVENT
END:VCALENDAR