BEGIN:VCALENDAR
VERSION:2.0
PRODID:-//French Tech Côte d&#039;Azur - ECPv6.15.20//NONSGML v1.0//EN
CALSCALE:GREGORIAN
METHOD:PUBLISH
X-ORIGINAL-URL:https://www.frenchtechcotedazur.fr
X-WR-CALDESC:Évènements pour French Tech Côte d&#039;Azur
REFRESH-INTERVAL;VALUE=DURATION:PT1H
X-Robots-Tag:noindex
X-PUBLISHED-TTL:PT1H
BEGIN:VTIMEZONE
TZID:Europe/Paris
BEGIN:DAYLIGHT
TZOFFSETFROM:+0100
TZOFFSETTO:+0200
TZNAME:CEST
DTSTART:20220327T010000
END:DAYLIGHT
BEGIN:STANDARD
TZOFFSETFROM:+0200
TZOFFSETTO:+0100
TZNAME:CET
DTSTART:20221030T010000
END:STANDARD
BEGIN:DAYLIGHT
TZOFFSETFROM:+0100
TZOFFSETTO:+0200
TZNAME:CEST
DTSTART:20230326T010000
END:DAYLIGHT
BEGIN:STANDARD
TZOFFSETFROM:+0200
TZOFFSETTO:+0100
TZNAME:CET
DTSTART:20231029T010000
END:STANDARD
BEGIN:DAYLIGHT
TZOFFSETFROM:+0100
TZOFFSETTO:+0200
TZNAME:CEST
DTSTART:20240331T010000
END:DAYLIGHT
BEGIN:STANDARD
TZOFFSETFROM:+0200
TZOFFSETTO:+0100
TZNAME:CET
DTSTART:20241027T010000
END:STANDARD
END:VTIMEZONE
BEGIN:VEVENT
DTSTART;TZID=Europe/Paris:20230315T180000
DTEND;TZID=Europe/Paris:20230315T220000
DTSTAMP:20260423T070506
CREATED:20230222T154021Z
LAST-MODIFIED:20230314T125935Z
UID:4285-1678903200-1678917600@www.frenchtechcotedazur.fr
SUMMARY:Soirée Scale-Up Club
DESCRIPTION:1ère Soirée Scale-up Club de 2023 sur le thème : « Fondateurs : LBO\, OBO\, ventes\, transmissions\, quelle sortie ? Anticipez ! » \nPour notre prochaine soirée du Scale-up Club nous sommes heureux de recevoir comme special guest Pauline Boucon Duval\, Directrice générale groupe Duval (1MD€ CA)\, #1 des femmes Business Angel 2023 \nSi vous êtes une start-up et que vous réalisez plus d’1M€ de chiffre d’affaires ou avec une levée d’au moins 2M€\, \nNe ratez pas cet événement  qui aura lieu le Mercredi 15 mars de 18h30 à 22h \nPour tout renseignement\, contactez-nous à cette adresse mail : contact@frenchtechcotedazur.fr
URL:https://www.frenchtechcotedazur.fr/event/soiree-scale-up-club-2/
ATTACH;FMTTYPE=image/png:https://www.frenchtechcotedazur.fr/wp-content/uploads/2023/02/STD-SUC-15032023.png
END:VEVENT
END:VCALENDAR