BEGIN:VCALENDAR
VERSION:2.0
PRODID:-//French Tech Côte d&#039;Azur - ECPv6.15.20//NONSGML v1.0//EN
CALSCALE:GREGORIAN
METHOD:PUBLISH
X-WR-CALNAME:French Tech Côte d&#039;Azur
X-ORIGINAL-URL:https://www.frenchtechcotedazur.fr
X-WR-CALDESC:Évènements pour French Tech Côte d&#039;Azur
REFRESH-INTERVAL;VALUE=DURATION:PT1H
X-Robots-Tag:noindex
X-PUBLISHED-TTL:PT1H
BEGIN:VTIMEZONE
TZID:Europe/Paris
BEGIN:DAYLIGHT
TZOFFSETFROM:+0100
TZOFFSETTO:+0200
TZNAME:CEST
DTSTART:20220327T010000
END:DAYLIGHT
BEGIN:STANDARD
TZOFFSETFROM:+0200
TZOFFSETTO:+0100
TZNAME:CET
DTSTART:20221030T010000
END:STANDARD
BEGIN:DAYLIGHT
TZOFFSETFROM:+0100
TZOFFSETTO:+0200
TZNAME:CEST
DTSTART:20230326T010000
END:DAYLIGHT
BEGIN:STANDARD
TZOFFSETFROM:+0200
TZOFFSETTO:+0100
TZNAME:CET
DTSTART:20231029T010000
END:STANDARD
BEGIN:DAYLIGHT
TZOFFSETFROM:+0100
TZOFFSETTO:+0200
TZNAME:CEST
DTSTART:20240331T010000
END:DAYLIGHT
BEGIN:STANDARD
TZOFFSETFROM:+0200
TZOFFSETTO:+0100
TZNAME:CET
DTSTART:20241027T010000
END:STANDARD
END:VTIMEZONE
BEGIN:VEVENT
DTSTART;TZID=Europe/Paris:20230313T160000
DTEND;TZID=Europe/Paris:20230313T180000
DTSTAMP:20260423T070848
CREATED:20230310T142045Z
LAST-MODIFIED:20230310T142045Z
UID:4361-1678723200-1678730400@www.frenchtechcotedazur.fr
SUMMARY:Meeting job dating by Le Bocal Academy
DESCRIPTION:🚀 Vous souhaitez recruter en alternance\, sur des postes en front\, back\, fullstack et devops ? \nRencontrez lors d’un Job Dating des candidat.es admis.es à la formation Développeur Web & DevOps. \n📍 Où ? 26 BD CARABACEL \nInscrivez-vous en cliquant ici
URL:https://www.frenchtechcotedazur.fr/event/meeting-job-dating-by-le-bocal-academy/
ATTACH;FMTTYPE=image/jpeg:https://www.frenchtechcotedazur.fr/wp-content/uploads/2023/03/jobdating.jpeg
END:VEVENT
BEGIN:VEVENT
DTSTART;TZID=Europe/Paris:20230313T180000
DTEND;TZID=Europe/Paris:20230313T193000
DTSTAMP:20260423T070848
CREATED:20230306T091437Z
LAST-MODIFIED:20230306T091437Z
UID:4351-1678730400-1678735800@www.frenchtechcotedazur.fr
SUMMARY:Digital Lab by Initiative NCA
DESCRIPTION:Le Growth Marketing\, avec Roch du Boys\, responsable formation WiziShop E-commerce & Growth Marketing 📈 \n📆 Lundi 13 Mars – 18h – Pop Up Initiative (1er étage du Centre Commercial – NICETOILE) \nInscription obligatoire en cliquant ici
URL:https://www.frenchtechcotedazur.fr/event/digital-lab-by-initiative-nca/
ATTACH;FMTTYPE=image/jpeg:https://www.frenchtechcotedazur.fr/wp-content/uploads/2023/03/FqhmeCxXsAEoFt1.jpeg
END:VEVENT
END:VCALENDAR