BEGIN:VCALENDAR
VERSION:2.0
PRODID:-//French Tech Côte d&#039;Azur - ECPv6.15.20//NONSGML v1.0//EN
CALSCALE:GREGORIAN
METHOD:PUBLISH
X-WR-CALNAME:French Tech Côte d&#039;Azur
X-ORIGINAL-URL:https://www.frenchtechcotedazur.fr
X-WR-CALDESC:Évènements pour French Tech Côte d&#039;Azur
REFRESH-INTERVAL;VALUE=DURATION:PT1H
X-Robots-Tag:noindex
X-PUBLISHED-TTL:PT1H
BEGIN:VTIMEZONE
TZID:Europe/Paris
BEGIN:DAYLIGHT
TZOFFSETFROM:+0100
TZOFFSETTO:+0200
TZNAME:CEST
DTSTART:20220327T010000
END:DAYLIGHT
BEGIN:STANDARD
TZOFFSETFROM:+0200
TZOFFSETTO:+0100
TZNAME:CET
DTSTART:20221030T010000
END:STANDARD
BEGIN:DAYLIGHT
TZOFFSETFROM:+0100
TZOFFSETTO:+0200
TZNAME:CEST
DTSTART:20230326T010000
END:DAYLIGHT
BEGIN:STANDARD
TZOFFSETFROM:+0200
TZOFFSETTO:+0100
TZNAME:CET
DTSTART:20231029T010000
END:STANDARD
BEGIN:DAYLIGHT
TZOFFSETFROM:+0100
TZOFFSETTO:+0200
TZNAME:CEST
DTSTART:20240331T010000
END:DAYLIGHT
BEGIN:STANDARD
TZOFFSETFROM:+0200
TZOFFSETTO:+0100
TZNAME:CET
DTSTART:20241027T010000
END:STANDARD
END:VTIMEZONE
BEGIN:VEVENT
DTSTART;TZID=Europe/Paris:20230309T183000
DTEND;TZID=Europe/Paris:20230309T200000
DTSTAMP:20260423T070847
CREATED:20230222T154606Z
LAST-MODIFIED:20230222T154630Z
UID:4288-1678386600-1678392000@www.frenchtechcotedazur.fr
SUMMARY:Baromètre Parité
DESCRIPTION:La French Tech Côte d’Azur et Nice Start(s) Up sont heureux de vous convier à leur\n \nSoirée d’annonce des résultats du « Baromètre Parité »\n \n🗓 Jeudi 9 mars à 18h30\n📍Théâtre National de Nice – Salle des Franciscains\n \nPetit rappel :\n \n\nEn 2022\, la Mission French Tech lance le « Pacte parité ».\n\nObjectif : accélérer l’égalité entre les femmes et les hommes au sein des entreprises de la tech et particulièrement les start-ups\, promptes à l’innovation.\nLa parité homme-femme dans l’entreprise est un sujet complexe.\n\nAfin d’établir un état de lieu et ensuite mesurer les évolutions\, Nice Start(s) Up a lancé en janvier 2023\, le « Baromètre FTCA de la parité » .\n\nLe 9 mars\, nous vous présentons les résultats de ce baromètre et inviterons les Start-ups qui le souhaitent à signer la charte Parité French Tech.\n\n\nInscription et information : ici
URL:https://www.frenchtechcotedazur.fr/event/barometre-parite/
ATTACH;FMTTYPE=application/pdf:https://www.frenchtechcotedazur.fr/wp-content/uploads/2023/02/Invitation-soirée-baromètre-4.pdf
END:VEVENT
END:VCALENDAR