BEGIN:VCALENDAR
VERSION:2.0
PRODID:-//French Tech Côte d&#039;Azur - ECPv6.15.20//NONSGML v1.0//EN
CALSCALE:GREGORIAN
METHOD:PUBLISH
X-ORIGINAL-URL:https://www.frenchtechcotedazur.fr
X-WR-CALDESC:Évènements pour French Tech Côte d&#039;Azur
REFRESH-INTERVAL;VALUE=DURATION:PT1H
X-Robots-Tag:noindex
X-PUBLISHED-TTL:PT1H
BEGIN:VTIMEZONE
TZID:Europe/Paris
BEGIN:DAYLIGHT
TZOFFSETFROM:+0100
TZOFFSETTO:+0200
TZNAME:CEST
DTSTART:20220327T010000
END:DAYLIGHT
BEGIN:STANDARD
TZOFFSETFROM:+0200
TZOFFSETTO:+0100
TZNAME:CET
DTSTART:20221030T010000
END:STANDARD
BEGIN:DAYLIGHT
TZOFFSETFROM:+0100
TZOFFSETTO:+0200
TZNAME:CEST
DTSTART:20230326T010000
END:DAYLIGHT
BEGIN:STANDARD
TZOFFSETFROM:+0200
TZOFFSETTO:+0100
TZNAME:CET
DTSTART:20231029T010000
END:STANDARD
BEGIN:DAYLIGHT
TZOFFSETFROM:+0100
TZOFFSETTO:+0200
TZNAME:CEST
DTSTART:20240331T010000
END:DAYLIGHT
BEGIN:STANDARD
TZOFFSETFROM:+0200
TZOFFSETTO:+0100
TZNAME:CET
DTSTART:20241027T010000
END:STANDARD
END:VTIMEZONE
BEGIN:VEVENT
DTSTART;TZID=Europe/Paris:20230306T083000
DTEND;TZID=Europe/Paris:20230306T180000
DTSTAMP:20260423T070342
CREATED:20230223T092405Z
LAST-MODIFIED:20230223T092405Z
UID:4296-1678091400-1678125600@www.frenchtechcotedazur.fr
SUMMARY:Women in Startups
DESCRIPTION:À l’occasion de la journée internationale des droits des femmes\, nous organisons\, aux côtes des 4 associations French Tech Côte d’Azur\, une semaine dédiée aux métiers des femmes dans les startups\, Job Tour : Women in Startups. \nDans le cadre de cette semaine\, nous organisons pour vous\, étudiants\, le 6 mars 2023\, des visites de plusieurs start-ups innovantes et créatives de l’écosystème French Tech Côte d’Azur. \nLors de ces visites\, vous\, étudiants\, pourrez découvrir les différentes start-ups de l’écosystème French Tech Côte D’Azur ! \nÉvénement gratuit sur inscription ! \nInscrivez-vous vite en cliquant ici.
URL:https://www.frenchtechcotedazur.fr/event/women-in-start-up/
ATTACH;FMTTYPE=image/jpeg:https://www.frenchtechcotedazur.fr/wp-content/uploads/2023/02/1676976907033.jpg
END:VEVENT
END:VCALENDAR