BEGIN:VCALENDAR
VERSION:2.0
PRODID:-//French Tech Côte d&#039;Azur - ECPv6.15.20//NONSGML v1.0//EN
CALSCALE:GREGORIAN
METHOD:PUBLISH
X-ORIGINAL-URL:https://www.frenchtechcotedazur.fr
X-WR-CALDESC:Évènements pour French Tech Côte d&#039;Azur
REFRESH-INTERVAL;VALUE=DURATION:PT1H
X-Robots-Tag:noindex
X-PUBLISHED-TTL:PT1H
BEGIN:VTIMEZONE
TZID:Europe/Paris
BEGIN:DAYLIGHT
TZOFFSETFROM:+0100
TZOFFSETTO:+0200
TZNAME:CEST
DTSTART:20220327T010000
END:DAYLIGHT
BEGIN:STANDARD
TZOFFSETFROM:+0200
TZOFFSETTO:+0100
TZNAME:CET
DTSTART:20221030T010000
END:STANDARD
BEGIN:DAYLIGHT
TZOFFSETFROM:+0100
TZOFFSETTO:+0200
TZNAME:CEST
DTSTART:20230326T010000
END:DAYLIGHT
BEGIN:STANDARD
TZOFFSETFROM:+0200
TZOFFSETTO:+0100
TZNAME:CET
DTSTART:20231029T010000
END:STANDARD
BEGIN:DAYLIGHT
TZOFFSETFROM:+0100
TZOFFSETTO:+0200
TZNAME:CEST
DTSTART:20240331T010000
END:DAYLIGHT
BEGIN:STANDARD
TZOFFSETFROM:+0200
TZOFFSETTO:+0100
TZNAME:CET
DTSTART:20241027T010000
END:STANDARD
END:VTIMEZONE
BEGIN:VEVENT
DTSTART;TZID=Europe/Paris:20230117T180000
DTEND;TZID=Europe/Paris:20230117T203000
DTSTAMP:20260423T093945
CREATED:20221214T125934Z
LAST-MODIFIED:20221214T125934Z
UID:3778-1673978400-1673987400@www.frenchtechcotedazur.fr
SUMMARY:Comment concilier influence et RSE ? by le Village by CA
DESCRIPTION:Un événement inédit à Le Village by Crédit Agricole Provence Côte d’Azur qui s’adresse aux communicants \, aux entrepreneurs\, aux dirigeants\, aux responsable RSE qui souhaitent donner de la visibilité à leur entreprise en utilisant l’influence marketing mais avec une stratégie appropriée\, numériquement responsable et en phase avec leurs engagements RSE. \n📆 Mardi 17 Janvier 18h00. \nEn partenariat avec SUP’DE COM – L’école de tous les métiers de la communication \, Grasse Mat’\, Influence4You et GREEN WEB \nUn programme dément 🔥🔥\n18H00 – Accueil – Venez vivre l’expérience immersive de CREATIVE MOTION\, »Blockchain Your Art » by Lionel Hun. \n18H30 : 5 TEDx\n– Marouane Boulares (directeur du développement de Sup de Com) : Quel est le rôle de l’enseignement concernant la communication responsable et éthique et la formation des influenceurs?\n– Fanny VIANO-HAZERA (experte en communication interne\, ex-directrice de communication pour le groupe Société Génrale) : Vos collaborateurs sont vos meilleurs Influenceurs.\n– Jean-Baptiste Viet (You Tuber Tech) : Tous influenceurs\, « responsables ». Peut-on monétiser sa passion sur Internet en restant fidèle à ses valeurs ?\n– Sébastien Bouillet (Cofondateur de Influence4You) : utiliser l’influence pour relayer aux engagements RSE.\n– Simon Cardon ( Entrepreneur engagé pour le Numérique Responsable – spécialiste Green IT et It for Green ) : communiquer de façon responsable en alignement avec le positionnement RSE de son entreprise. \n19H20 : Pause. testez l’expérience immersive Creative Motion. \n19H30 : Table ronde .\nNous allons approfondir les sujets et répondre à vos questions.\nEnvoyez vos questions d’ores et déjà sur aurelien.lallemant@levillagebyca.com. \n20h15 : Cocktail et prolongation des échanges. \nInscription ici: https://lnkd.in/eBXW5Jds
URL:https://www.frenchtechcotedazur.fr/event/comment-concilier-influence-et-rse-by-le-village-by-ca/
ATTACH;FMTTYPE=image/jpeg:https://www.frenchtechcotedazur.fr/wp-content/uploads/2022/12/village.jpeg
END:VEVENT
END:VCALENDAR