BEGIN:VCALENDAR
VERSION:2.0
PRODID:-//French Tech Côte d&#039;Azur - ECPv6.15.20//NONSGML v1.0//EN
CALSCALE:GREGORIAN
METHOD:PUBLISH
X-ORIGINAL-URL:https://www.frenchtechcotedazur.fr
X-WR-CALDESC:Évènements pour French Tech Côte d&#039;Azur
REFRESH-INTERVAL;VALUE=DURATION:PT1H
X-Robots-Tag:noindex
X-PUBLISHED-TTL:PT1H
BEGIN:VTIMEZONE
TZID:Europe/Paris
BEGIN:DAYLIGHT
TZOFFSETFROM:+0100
TZOFFSETTO:+0200
TZNAME:CEST
DTSTART:20210328T010000
END:DAYLIGHT
BEGIN:STANDARD
TZOFFSETFROM:+0200
TZOFFSETTO:+0100
TZNAME:CET
DTSTART:20211031T010000
END:STANDARD
BEGIN:DAYLIGHT
TZOFFSETFROM:+0100
TZOFFSETTO:+0200
TZNAME:CEST
DTSTART:20220327T010000
END:DAYLIGHT
BEGIN:STANDARD
TZOFFSETFROM:+0200
TZOFFSETTO:+0100
TZNAME:CET
DTSTART:20221030T010000
END:STANDARD
BEGIN:DAYLIGHT
TZOFFSETFROM:+0100
TZOFFSETTO:+0200
TZNAME:CEST
DTSTART:20230326T010000
END:DAYLIGHT
BEGIN:STANDARD
TZOFFSETFROM:+0200
TZOFFSETTO:+0100
TZNAME:CET
DTSTART:20231029T010000
END:STANDARD
END:VTIMEZONE
BEGIN:VEVENT
DTSTART;TZID=Europe/Paris:20221213T110000
DTEND;TZID=Europe/Paris:20221213T223000
DTSTAMP:20260423T105405
CREATED:20221024T100140Z
LAST-MODIFIED:20221024T100348Z
UID:3401-1670929200-1670970600@www.frenchtechcotedazur.fr
SUMMARY:Green 20 Summit
DESCRIPTION:Le French Tech Green 20 Summit se déroulera le 13 décembre 2022 à Grenoble.\n\n\n\n\n\n\nLe FrenchTech Green20 Summit est le 1er sommet national consacré aux startups françaises championnes technologiques de la transition écologique. \nLes 35 startups labellisées Green20 par la Mission French Tech ainsi que tout l’écosystème de la GreenTech en France seront mises à l’honneur le temps d’une journée pour se rencontrer et créer des synergies à l’échelle nationale sur le territoire de Grenoble\, terreau fertile pour faire émerger ces technologies qui changeront le monde de demain. \nInscription EN CLIQUANT SUR CE LIEN.
URL:https://www.frenchtechcotedazur.fr/event/green-20-summit/
ATTACH;FMTTYPE=image/png:https://www.frenchtechcotedazur.fr/wp-content/uploads/2022/10/Capture-décran-2022-10-24-à-11.59.03.png
END:VEVENT
BEGIN:VEVENT
DTSTART;TZID=Europe/Paris:20221213T170000
DTEND;TZID=Europe/Paris:20221213T183000
DTSTAMP:20260423T105406
CREATED:20221118T160349Z
LAST-MODIFIED:20221118T160349Z
UID:3617-1670950800-1670956200@www.frenchtechcotedazur.fr
SUMMARY:Atelier Orange Digital Center
DESCRIPTION: » ma visibilité sur internet  » \nréservé aux professionnels
URL:https://www.frenchtechcotedazur.fr/event/atelier-orange-digital-center/
ATTACH;FMTTYPE=application/pdf:https://www.frenchtechcotedazur.fr/wp-content/uploads/2022/11/un-atelier-Orange-DigitalCenterréservé-aux-professionnels-1.pdf
END:VEVENT
BEGIN:VEVENT
DTSTART;TZID=Europe/Paris:20221213T173000
DTEND;TZID=Europe/Paris:20221213T193000
DTSTAMP:20260423T105406
CREATED:20221206T101757Z
LAST-MODIFIED:20221206T101757Z
UID:3683-1670952600-1670959800@www.frenchtechcotedazur.fr
SUMMARY:Crise énergétique : l’événement pour tout comprendre et passer à l’action !
DESCRIPTION:Rendez-vous le 13 décembre à 17h30\nÀ la CCI Nice Côte d’Azur\, 20 Bd Carabacel à Nice\nÉvénement en présentiel uniquement \nAu programme :\n\nIntroduction par Jean-Pierre Savarino\, Président de la CCI Nice Côte d’Azur\nComprendre le contexte énergétique actuel\nRéglementation énergétique : les obligations et mesures applicables aux entreprises\nPlan de sobriété énergétique : les leviers d’actions pour les entreprises\nLes aides et leviers de financements à activer\nEchanges avec la salle\, questions/réponses\n\nInscription gratuite et obligatoire EN CLIQUANT ICI.
URL:https://www.frenchtechcotedazur.fr/event/crise-energetique-levenement-pour-tout-comprendre-et-passer-a-laction/
ATTACH;FMTTYPE=image/png:https://www.frenchtechcotedazur.fr/wp-content/uploads/2022/12/Capture-décran-2022-12-06-à-11.16.14.png
END:VEVENT
END:VCALENDAR