BEGIN:VCALENDAR
VERSION:2.0
PRODID:-//French Tech Côte d&#039;Azur - ECPv6.15.20//NONSGML v1.0//EN
CALSCALE:GREGORIAN
METHOD:PUBLISH
X-ORIGINAL-URL:https://www.frenchtechcotedazur.fr
X-WR-CALDESC:Évènements pour French Tech Côte d&#039;Azur
REFRESH-INTERVAL;VALUE=DURATION:PT1H
X-Robots-Tag:noindex
X-PUBLISHED-TTL:PT1H
BEGIN:VTIMEZONE
TZID:Europe/Paris
BEGIN:DAYLIGHT
TZOFFSETFROM:+0100
TZOFFSETTO:+0200
TZNAME:CEST
DTSTART:20210328T010000
END:DAYLIGHT
BEGIN:STANDARD
TZOFFSETFROM:+0200
TZOFFSETTO:+0100
TZNAME:CET
DTSTART:20211031T010000
END:STANDARD
BEGIN:DAYLIGHT
TZOFFSETFROM:+0100
TZOFFSETTO:+0200
TZNAME:CEST
DTSTART:20220327T010000
END:DAYLIGHT
BEGIN:STANDARD
TZOFFSETFROM:+0200
TZOFFSETTO:+0100
TZNAME:CET
DTSTART:20221030T010000
END:STANDARD
BEGIN:DAYLIGHT
TZOFFSETFROM:+0100
TZOFFSETTO:+0200
TZNAME:CEST
DTSTART:20230326T010000
END:DAYLIGHT
BEGIN:STANDARD
TZOFFSETFROM:+0200
TZOFFSETTO:+0100
TZNAME:CET
DTSTART:20231029T010000
END:STANDARD
END:VTIMEZONE
BEGIN:VEVENT
DTSTART;TZID=Europe/Paris:20221209T180000
DTEND;TZID=Europe/Paris:20221209T193000
DTSTAMP:20260423T105426
CREATED:20221202T101802Z
LAST-MODIFIED:20221202T101940Z
UID:3662-1670608800-1670614200@www.frenchtechcotedazur.fr
SUMMARY:Afterwork Europe Sociale
DESCRIPTION:Le Centre Europe Direct Nice Côte d’Azur organise un afterwork sur le thème de l’Europe sociale en présence de Madame Sylvie BRUNET\, députée au Parlement européen et de Madame Magali ALTOUNIAN\, Adjointe au Maire de Nice déléguée aux finances\, aux institutions européennes et au rayonnement de la ville\, Conseillère Métropolitaine déléguée aux affaires européennes et Conseillère régionale – Présidente de la commission Europe\, le 9 décembre prochain à partir de 18h00\, dans l’espace de coworking Startway – 21 bis Avenue Thiers à Nice. Un cocktail est prévu à l’issue des échanges.\n\n\n\n\n\n\n\n\n\nEvènement organisé en partenariat avec :\n\n\n\n\n\nMouvement Européen des Alpes Maritimes\nNice Start(s) Up\nCommission européenne\nParlement européen\nStartway\n\n\n\n\nLa modération du débat sera assurée par Monsieur Stéphane LENEUF\, Rédacteur en chef de France Inter – Paris.\n\nTrois grands sous thèmes ont été identifiés :\n\n•             Le salaire minimum : avancées et actualité (intervenants : Pôle-Emploi\, APEC)\n•             Travailleurs des plateformes numériques (intervenants : Le Wagon\, Livmeds et Delicity)\n\n\n\n•             Ecart salarial entre Hommes et Femmes (intervenants : Les entreprises pour la cité et Alter-Egaux)\n\n\n\n\n\n\n\n\n\nGrâce aux différents témoignages et retours d’expériences des représentants d’associations\, startups ainsi que des salariés\, pour chaque volet identifié\, cet évènement permettra de faire remonter les préoccupations et les craintes liées à ces 3 sujets auprès des instances européennes\, mais aussi de comprendre ce que l’Union européenne fait concrètement pour réduire les discriminations qui en découlent. L’occasion pour la députée européenne de rappeler les travaux qu’elle mène au parlement européen sur ces sujets.\n\n\n\nInformations et inscription EN CLIQUANT ICI.
URL:https://www.frenchtechcotedazur.fr/event/afterwork-europe-sociale/
ATTACH;FMTTYPE=image/png:https://www.frenchtechcotedazur.fr/wp-content/uploads/2022/12/EUROPE-Afterwork-declinaisons_digitales_et_RS-Tw.png
END:VEVENT
END:VCALENDAR