BEGIN:VCALENDAR
VERSION:2.0
PRODID:-//French Tech Côte d&#039;Azur - ECPv6.15.20//NONSGML v1.0//EN
CALSCALE:GREGORIAN
METHOD:PUBLISH
X-ORIGINAL-URL:https://www.frenchtechcotedazur.fr
X-WR-CALDESC:Évènements pour French Tech Côte d&#039;Azur
REFRESH-INTERVAL;VALUE=DURATION:PT1H
X-Robots-Tag:noindex
X-PUBLISHED-TTL:PT1H
BEGIN:VTIMEZONE
TZID:Europe/Paris
BEGIN:DAYLIGHT
TZOFFSETFROM:+0100
TZOFFSETTO:+0200
TZNAME:CEST
DTSTART:20210328T010000
END:DAYLIGHT
BEGIN:STANDARD
TZOFFSETFROM:+0200
TZOFFSETTO:+0100
TZNAME:CET
DTSTART:20211031T010000
END:STANDARD
BEGIN:DAYLIGHT
TZOFFSETFROM:+0100
TZOFFSETTO:+0200
TZNAME:CEST
DTSTART:20220327T010000
END:DAYLIGHT
BEGIN:STANDARD
TZOFFSETFROM:+0200
TZOFFSETTO:+0100
TZNAME:CET
DTSTART:20221030T010000
END:STANDARD
BEGIN:DAYLIGHT
TZOFFSETFROM:+0100
TZOFFSETTO:+0200
TZNAME:CEST
DTSTART:20230326T010000
END:DAYLIGHT
BEGIN:STANDARD
TZOFFSETFROM:+0200
TZOFFSETTO:+0100
TZNAME:CET
DTSTART:20231029T010000
END:STANDARD
END:VTIMEZONE
BEGIN:VEVENT
DTSTART;TZID=Europe/Paris:20221207T180000
DTEND;TZID=Europe/Paris:20221207T200000
DTSTAMP:20260423T105334
CREATED:20221107T160554Z
LAST-MODIFIED:20221107T160701Z
UID:3554-1670436000-1670443200@www.frenchtechcotedazur.fr
SUMMARY:Fiscalité et financement de l'innovation
DESCRIPTION:Rendez-vous le 7 décembre à 18h à l’auditorium de BPMED à Nice (457 promenade des Anglais) pour la soirée : \n«LA FISCALITÉ ET LE FINANCEMENT DE L’INNOVATION » \nKPMG Fiscalité de l’innovation : \n• Le crédit d’impôt recherche (CIR) \n• Le statut de la Jeune Entreprise Innovante (JEI) Le financement de l’innovation : l’accompagnement au financement et à la levée de fonds \n• comment monter un BP ? \n• les documents à remettre \n• les financements possible (type d’emprunt\, subvention\, prise de participation\, etc) \nBANQUE POPULAIRE MÉDITERRANÉE \nLes Entreprises Innovantes dans leur développement : de la première commercialisation jusqu’à leur développement à l’international \nBPI FRANCE \nPrésentation du continuum de l’offre de financement de l’innovation Places limitées : inscription obligatoire avant le 30 novembre 2022 \nL’événement se conclura par un cocktail dinatoire \nPour vous inscrire\, vous pouvez contacter : Elodie Putteman\, mail : eputteman@kpmg.fr\, téléphone: 06 12 61 27 67
URL:https://www.frenchtechcotedazur.fr/event/fiscalite-et-financement-de-linnovation/
ATTACH;FMTTYPE=image/png:https://www.frenchtechcotedazur.fr/wp-content/uploads/2022/11/Untitled-design-32.png
END:VEVENT
END:VCALENDAR