BEGIN:VCALENDAR
VERSION:2.0
PRODID:-//French Tech Côte d&#039;Azur - ECPv6.15.20//NONSGML v1.0//EN
CALSCALE:GREGORIAN
METHOD:PUBLISH
X-ORIGINAL-URL:https://www.frenchtechcotedazur.fr
X-WR-CALDESC:Évènements pour French Tech Côte d&#039;Azur
REFRESH-INTERVAL;VALUE=DURATION:PT1H
X-Robots-Tag:noindex
X-PUBLISHED-TTL:PT1H
BEGIN:VTIMEZONE
TZID:Europe/Paris
BEGIN:DAYLIGHT
TZOFFSETFROM:+0100
TZOFFSETTO:+0200
TZNAME:CEST
DTSTART:20210328T010000
END:DAYLIGHT
BEGIN:STANDARD
TZOFFSETFROM:+0200
TZOFFSETTO:+0100
TZNAME:CET
DTSTART:20211031T010000
END:STANDARD
BEGIN:DAYLIGHT
TZOFFSETFROM:+0100
TZOFFSETTO:+0200
TZNAME:CEST
DTSTART:20220327T010000
END:DAYLIGHT
BEGIN:STANDARD
TZOFFSETFROM:+0200
TZOFFSETTO:+0100
TZNAME:CET
DTSTART:20221030T010000
END:STANDARD
BEGIN:DAYLIGHT
TZOFFSETFROM:+0100
TZOFFSETTO:+0200
TZNAME:CEST
DTSTART:20230326T010000
END:DAYLIGHT
BEGIN:STANDARD
TZOFFSETFROM:+0200
TZOFFSETTO:+0100
TZNAME:CET
DTSTART:20231029T010000
END:STANDARD
END:VTIMEZONE
BEGIN:VEVENT
DTSTART;TZID=Europe/Paris:20221125T110000
DTEND;TZID=Europe/Paris:20221125T130000
DTSTAMP:20260423T122011
CREATED:20221021T135005Z
LAST-MODIFIED:20221024T072825Z
UID:3389-1669374000-1669381200@www.frenchtechcotedazur.fr
SUMMARY:Lancement de l'Académie du Métavers à Nice
DESCRIPTION:Meta & Simplon lancent l’Académie du Métavers le Vendredi 25 Novembre 2022 à Nice à 11h00.\n \n\n\nVous souhaitez Assister à la conférence de presse en présence de : \nMonsieur Christian Estrosi \, Maire de Nice – Président de la Métropole Nice-Côte d’Azur\nMonsieur Laurent Solly\, VP Europe du Sud META et de Madame Véronique Saubot\, Directrice générale Simplon.co\n\nRencontrer vos futurs alternants de la première promotion Développeur AR/VR/3D Temps Réel\, \nParticiper à une table ronde\, \nPrésenter votre entreprise et vos activités\, \nAssister à une conférence autour de l’impact du Métavers \, des enjeux RHs du Métavers\,… \nRejoignez-nous et devenez partenaire d’un projet unique et inclusif autour des métiers techniques du métavers\, de la XR et de la 3D temps réel. \nInformations et inscription EN CLIQUANT ICI.
URL:https://www.frenchtechcotedazur.fr/event/lancement-de-lacademie-du-metavers-a-nice/
ATTACH;FMTTYPE=image/png:https://www.frenchtechcotedazur.fr/wp-content/uploads/2022/10/VD-2-Banniere-Nice.png
END:VEVENT
END:VCALENDAR