BEGIN:VCALENDAR
VERSION:2.0
PRODID:-//French Tech Côte d&#039;Azur - ECPv6.15.20//NONSGML v1.0//EN
CALSCALE:GREGORIAN
METHOD:PUBLISH
X-WR-CALNAME:French Tech Côte d&#039;Azur
X-ORIGINAL-URL:https://www.frenchtechcotedazur.fr
X-WR-CALDESC:Évènements pour French Tech Côte d&#039;Azur
REFRESH-INTERVAL;VALUE=DURATION:PT1H
X-Robots-Tag:noindex
X-PUBLISHED-TTL:PT1H
BEGIN:VTIMEZONE
TZID:Europe/Paris
BEGIN:DAYLIGHT
TZOFFSETFROM:+0100
TZOFFSETTO:+0200
TZNAME:CEST
DTSTART:20210328T010000
END:DAYLIGHT
BEGIN:STANDARD
TZOFFSETFROM:+0200
TZOFFSETTO:+0100
TZNAME:CET
DTSTART:20211031T010000
END:STANDARD
BEGIN:DAYLIGHT
TZOFFSETFROM:+0100
TZOFFSETTO:+0200
TZNAME:CEST
DTSTART:20220327T010000
END:DAYLIGHT
BEGIN:STANDARD
TZOFFSETFROM:+0200
TZOFFSETTO:+0100
TZNAME:CET
DTSTART:20221030T010000
END:STANDARD
BEGIN:DAYLIGHT
TZOFFSETFROM:+0100
TZOFFSETTO:+0200
TZNAME:CEST
DTSTART:20230326T010000
END:DAYLIGHT
BEGIN:STANDARD
TZOFFSETFROM:+0200
TZOFFSETTO:+0100
TZNAME:CET
DTSTART:20231029T010000
END:STANDARD
END:VTIMEZONE
BEGIN:VEVENT
DTSTART;TZID=Europe/Paris:20221122T090000
DTEND;TZID=Europe/Paris:20221122T173000
DTSTAMP:20260423T123226
CREATED:20221115T091609Z
LAST-MODIFIED:20221115T091609Z
UID:3580-1669107600-1669138200@www.frenchtechcotedazur.fr
SUMMARY:SOPH.IA MASTER CLASSES
DESCRIPTION:Pour les professionnels de l’IA\, de la cybersécurité\, de l’opensource et les étudiants dans le numérique \nTelecom Valley et la Maison de l’Intelligence Artificielle organisent les SOPH.IA MASTER CLASSES en ouverture de la AIWEEK2022 SophIASummit2022 \n🗓️ Mardi 22 novembre 2022\n📍 Maison de l’Intelligence Artificielle\n⏱ de 09h00 à 17h30 \n\nLe #DeepLearning au service de l’#agriculture avec #ADeepAdventure #InsectaE\nL’IA catalyseur d’#innovation\, cas pratique sur la cybersécurité avec Orange\nCORESE\, la plate-forme logicielle #OpenSource pour des graphes de connaissance aux standards du Web avec Inria Academy\nScience et Art du verre\, les verriers de Biot innovent et créent la première oeuvre à l’aide de l’Intelligence Artificielle avec Ville de Biot\n\nInformations et inscription gratuite EN CLIQUANT ICI.
URL:https://www.frenchtechcotedazur.fr/event/heavent-paris/
ATTACH;FMTTYPE=image/png:https://www.frenchtechcotedazur.fr/wp-content/uploads/2022/11/Capture-décran-2022-11-15-à-10.10.47.png
END:VEVENT
END:VCALENDAR