BEGIN:VCALENDAR
VERSION:2.0
PRODID:-//French Tech Côte d&#039;Azur - ECPv6.15.20//NONSGML v1.0//EN
CALSCALE:GREGORIAN
METHOD:PUBLISH
X-WR-CALNAME:French Tech Côte d&#039;Azur
X-ORIGINAL-URL:https://www.frenchtechcotedazur.fr
X-WR-CALDESC:Évènements pour French Tech Côte d&#039;Azur
REFRESH-INTERVAL;VALUE=DURATION:PT1H
X-Robots-Tag:noindex
X-PUBLISHED-TTL:PT1H
BEGIN:VTIMEZONE
TZID:Europe/Paris
BEGIN:DAYLIGHT
TZOFFSETFROM:+0100
TZOFFSETTO:+0200
TZNAME:CEST
DTSTART:20210328T010000
END:DAYLIGHT
BEGIN:STANDARD
TZOFFSETFROM:+0200
TZOFFSETTO:+0100
TZNAME:CET
DTSTART:20211031T010000
END:STANDARD
BEGIN:DAYLIGHT
TZOFFSETFROM:+0100
TZOFFSETTO:+0200
TZNAME:CEST
DTSTART:20220327T010000
END:DAYLIGHT
BEGIN:STANDARD
TZOFFSETFROM:+0200
TZOFFSETTO:+0100
TZNAME:CET
DTSTART:20221030T010000
END:STANDARD
BEGIN:DAYLIGHT
TZOFFSETFROM:+0100
TZOFFSETTO:+0200
TZNAME:CEST
DTSTART:20230326T010000
END:DAYLIGHT
BEGIN:STANDARD
TZOFFSETFROM:+0200
TZOFFSETTO:+0100
TZNAME:CET
DTSTART:20231029T010000
END:STANDARD
END:VTIMEZONE
BEGIN:VEVENT
DTSTART;VALUE=DATE:20221117
DTEND;VALUE=DATE:20221118
DTSTAMP:20260423T123221
CREATED:20221007T113227Z
LAST-MODIFIED:20221007T113227Z
UID:3319-1668643200-1668729599@www.frenchtechcotedazur.fr
SUMMARY:Hackathon "2025\, l'industrie écoute la terre"
DESCRIPTION:Le Club des Entrepreneurs de Grasse vous invite à participer  à son Hackathon 2022  « 2025\, l’industrie écoute la terre »\, le jeudi 17 novembre. \nLe Hackathon se joue en équipe de 4 à 5 personnes\, et est encadré par des coachs pour vous aider et vous guider. Les candidats présenteront au terme des 24 heures leur idée sous la forme d’un pitch et d’une présentation au jury présent. \nInscription gratuite EN CLIQUANT ICI.
URL:https://www.frenchtechcotedazur.fr/event/hackathon-pour-les-etudiants-startups-et-industriels/
ATTACH;FMTTYPE=image/jpeg:https://www.frenchtechcotedazur.fr/wp-content/uploads/2022/10/1664981509886.jpg
END:VEVENT
BEGIN:VEVENT
DTSTART;TZID=Europe/Paris:20221117T093000
DTEND;TZID=Europe/Paris:20221117T113000
DTSTAMP:20260423T123221
CREATED:20221109T103651Z
LAST-MODIFIED:20221109T104001Z
UID:3561-1668677400-1668684600@www.frenchtechcotedazur.fr
SUMMARY:Webinaire : La valeur en douane
DESCRIPTION:La valeur en douane est\, avec l’espèce tarifaire et l’origine des marchandises\, l’un des trois éléments clés qui sert à calculer l’assiette des droits de douane et la TVA. \nVous voulez avoir des précisions sur les modalités d’élaboration de la valeur en douane : valeur transactionnelle\, prix de transfert\, méthodes secondaires\, échantillons\, essais…? \nNous vous présenterons un bref point d’actualité sur la réforme import/export qui vous permettra de mieux appréhender les changements à venir en matière de formalités de dédouanement. \nRejoignez-nous en webinaire le 17 novembre! \nLes inscriptions se font ici
URL:https://www.frenchtechcotedazur.fr/event/webinaire-la-valeur-en-douane/
ATTACH;FMTTYPE=image/png:https://www.frenchtechcotedazur.fr/wp-content/uploads/2022/11/Untitled-design-33.png
END:VEVENT
BEGIN:VEVENT
DTSTART;TZID=Europe/Paris:20221117T123000
DTEND;TZID=Europe/Paris:20221117T134500
DTSTAMP:20260423T123221
CREATED:20221115T083556Z
LAST-MODIFIED:20221115T083556Z
UID:3577-1668688200-1668692700@www.frenchtechcotedazur.fr
SUMMARY:Masterclass Le bonheur au travail Village by CA
DESCRIPTION:Bonheur au travail : innovation managériale ou simple effet de mode \nMasterclass le jeudi 17 Novembre 12h30 à Le Village by Crédit Agricole Provence Côte d’Azur\, animée par Adélie Foras\, en partenariat avec le DU ProPhilia de Université Côte d’Azur \nDirigeant.e.s et décideurs.euses se posent évidemment la question du bien-être en entreprise.\nQui ne souhaite pas un environnement de travail heureux\, au sein duquel les collaborateurs s’épanouissent\, et qui donne envie de s’engager ? \nEvidemment\, le bien-être au travail a un impact sur la fidélisation des collaborateurs.rices\, le turn-over\, l’engagement etc.\, mais le bonheur semble surtout être le nouveau concept en vogue : les entreprises libérées deviennent un modèle à suivre\, car innovant et moderne et on voit même émerger des postes de CHO – Chief Hapiness Officer. \nAlors que penser de cette mode ? Et comment œuvrer pour rendre le travail et les collaborateurs vraiment heureux ? \nInformations et inscription EN CLIQUANT ICI.
URL:https://www.frenchtechcotedazur.fr/event/masterclass-le-bonheur-au-travail-village-by-ca/
ATTACH;FMTTYPE=image/png:https://www.frenchtechcotedazur.fr/wp-content/uploads/2022/11/Capture-décran-2022-11-15-à-09.30.55.png
END:VEVENT
END:VCALENDAR