BEGIN:VCALENDAR
VERSION:2.0
PRODID:-//French Tech Côte d&#039;Azur - ECPv6.15.20//NONSGML v1.0//EN
CALSCALE:GREGORIAN
METHOD:PUBLISH
X-ORIGINAL-URL:https://www.frenchtechcotedazur.fr
X-WR-CALDESC:Évènements pour French Tech Côte d&#039;Azur
REFRESH-INTERVAL;VALUE=DURATION:PT1H
X-Robots-Tag:noindex
X-PUBLISHED-TTL:PT1H
BEGIN:VTIMEZONE
TZID:Europe/Paris
BEGIN:DAYLIGHT
TZOFFSETFROM:+0100
TZOFFSETTO:+0200
TZNAME:CEST
DTSTART:20210328T010000
END:DAYLIGHT
BEGIN:STANDARD
TZOFFSETFROM:+0200
TZOFFSETTO:+0100
TZNAME:CET
DTSTART:20211031T010000
END:STANDARD
BEGIN:DAYLIGHT
TZOFFSETFROM:+0100
TZOFFSETTO:+0200
TZNAME:CEST
DTSTART:20220327T010000
END:DAYLIGHT
BEGIN:STANDARD
TZOFFSETFROM:+0200
TZOFFSETTO:+0100
TZNAME:CET
DTSTART:20221030T010000
END:STANDARD
BEGIN:DAYLIGHT
TZOFFSETFROM:+0100
TZOFFSETTO:+0200
TZNAME:CEST
DTSTART:20230326T010000
END:DAYLIGHT
BEGIN:STANDARD
TZOFFSETFROM:+0200
TZOFFSETTO:+0100
TZNAME:CET
DTSTART:20231029T010000
END:STANDARD
END:VTIMEZONE
BEGIN:VEVENT
DTSTART;TZID=Europe/Paris:20221110T183000
DTEND;TZID=Europe/Paris:20221110T220000
DTSTAMP:20260423T121936
CREATED:20221017T142702Z
LAST-MODIFIED:20221017T142939Z
UID:3335-1668105000-1668117600@www.frenchtechcotedazur.fr
SUMMARY:Afterwork : Blind Test des Vins
DESCRIPTION:Toute l’équipe Cannes Is Up\, a le plaisir de vous convier à un moment de partage et de convivialité sous le thème du Vin à Cannes ! \nUne animation Blind Test de différents vins vous sera proposée\, cette soirée sera également l’occasion pour de présenter notre grande nouveauté : l’Annuaire des membres \nInscription EN CLIQUANT ICI. \nGratuit pour les membres et partenaires  \n15€ l’atelier Blind Test pour les visiteurs  \n\n 18h30 – 19h30 (Animation Blind Test des Vins)\n19h30 – 22h00 (Afterwork)
URL:https://www.frenchtechcotedazur.fr/event/afterwork-blind-test-des-vins-2/
ATTACH;FMTTYPE=image/png:https://www.frenchtechcotedazur.fr/wp-content/uploads/2022/10/After-work-Blind-test-des-vins.png
END:VEVENT
END:VCALENDAR