BEGIN:VCALENDAR
VERSION:2.0
PRODID:-//French Tech Côte d&#039;Azur - ECPv6.15.20//NONSGML v1.0//EN
CALSCALE:GREGORIAN
METHOD:PUBLISH
X-ORIGINAL-URL:https://www.frenchtechcotedazur.fr
X-WR-CALDESC:Évènements pour French Tech Côte d&#039;Azur
REFRESH-INTERVAL;VALUE=DURATION:PT1H
X-Robots-Tag:noindex
X-PUBLISHED-TTL:PT1H
BEGIN:VTIMEZONE
TZID:Europe/Paris
BEGIN:DAYLIGHT
TZOFFSETFROM:+0100
TZOFFSETTO:+0200
TZNAME:CEST
DTSTART:20210328T010000
END:DAYLIGHT
BEGIN:STANDARD
TZOFFSETFROM:+0200
TZOFFSETTO:+0100
TZNAME:CET
DTSTART:20211031T010000
END:STANDARD
BEGIN:DAYLIGHT
TZOFFSETFROM:+0100
TZOFFSETTO:+0200
TZNAME:CEST
DTSTART:20220327T010000
END:DAYLIGHT
BEGIN:STANDARD
TZOFFSETFROM:+0200
TZOFFSETTO:+0100
TZNAME:CET
DTSTART:20221030T010000
END:STANDARD
BEGIN:DAYLIGHT
TZOFFSETFROM:+0100
TZOFFSETTO:+0200
TZNAME:CEST
DTSTART:20230326T010000
END:DAYLIGHT
BEGIN:STANDARD
TZOFFSETFROM:+0200
TZOFFSETTO:+0100
TZNAME:CET
DTSTART:20231029T010000
END:STANDARD
END:VTIMEZONE
BEGIN:VEVENT
DTSTART;TZID=Europe/Paris:20221023T080000
DTEND;TZID=Europe/Paris:20221025T170000
DTSTAMP:20260423T135314
CREATED:20221003T114909Z
LAST-MODIFIED:20221003T115507Z
UID:3288-1666512000-1666717200@www.frenchtechcotedazur.fr
SUMMARY:SophIA Summit à Sophia Antipolis
DESCRIPTION:La 5ème édition du Soph.I.A Summit se tiendra du 23 au 25 novembre 2022 à Sophia Antipolis.  \nL’événement dédié à l’intelligence artificielle est le rendez-vous incontournable de la recherche internationale en IA. \nInformations et inscription EN CLIQUANT ICI.
URL:https://www.frenchtechcotedazur.fr/event/sophia-summit-a-sophia-antipolis/
ATTACH;FMTTYPE=image/png:https://www.frenchtechcotedazur.fr/wp-content/uploads/2022/10/sophia-summit.png
END:VEVENT
BEGIN:VEVENT
DTSTART;TZID=Europe/Paris:20221024T180000
DTEND;TZID=Europe/Paris:20221024T200000
DTSTAMP:20260423T135314
CREATED:20220916T093340Z
LAST-MODIFIED:20220916T093340Z
UID:2868-1666634400-1666641600@www.frenchtechcotedazur.fr
SUMMARY:Digital Lab by Réseau Initiative NCA
DESCRIPTION:DIGITAL LAB – COMMENT DYNAMISER SES PRISES DE PAROLES EN LIGNE ? \nPrésenté par Estelle Cegelly\, Experte de prise de parole en public \nVenez participer au Digital Lab organisé par le Réseau Initiative Nice Côte d’Azur le Lundi 24 Octobre\, à 18h00 \nau Pop Up Initiative au Centre Commercial NICETOILE\, 30 Av. Jean Médecin\, 06000 Nice \nLes inscriptions se font : ici  \nDes questions? Vous pouvez contacter: o.lefevre@initiative-nca.fr
URL:https://www.frenchtechcotedazur.fr/event/digital-lab-by-reseau-initiative-nca-3/
ATTACH;FMTTYPE=image/png:https://www.frenchtechcotedazur.fr/wp-content/uploads/2022/09/Untitled-design-13.png
END:VEVENT
END:VCALENDAR