BEGIN:VCALENDAR
VERSION:2.0
PRODID:-//French Tech Côte d&#039;Azur - ECPv6.15.20//NONSGML v1.0//EN
CALSCALE:GREGORIAN
METHOD:PUBLISH
X-ORIGINAL-URL:https://www.frenchtechcotedazur.fr
X-WR-CALDESC:Évènements pour French Tech Côte d&#039;Azur
REFRESH-INTERVAL;VALUE=DURATION:PT1H
X-Robots-Tag:noindex
X-PUBLISHED-TTL:PT1H
BEGIN:VTIMEZONE
TZID:Europe/Paris
BEGIN:DAYLIGHT
TZOFFSETFROM:+0100
TZOFFSETTO:+0200
TZNAME:CEST
DTSTART:20210328T010000
END:DAYLIGHT
BEGIN:STANDARD
TZOFFSETFROM:+0200
TZOFFSETTO:+0100
TZNAME:CET
DTSTART:20211031T010000
END:STANDARD
BEGIN:DAYLIGHT
TZOFFSETFROM:+0100
TZOFFSETTO:+0200
TZNAME:CEST
DTSTART:20220327T010000
END:DAYLIGHT
BEGIN:STANDARD
TZOFFSETFROM:+0200
TZOFFSETTO:+0100
TZNAME:CET
DTSTART:20221030T010000
END:STANDARD
BEGIN:DAYLIGHT
TZOFFSETFROM:+0100
TZOFFSETTO:+0200
TZNAME:CEST
DTSTART:20230326T010000
END:DAYLIGHT
BEGIN:STANDARD
TZOFFSETFROM:+0200
TZOFFSETTO:+0100
TZNAME:CET
DTSTART:20231029T010000
END:STANDARD
END:VTIMEZONE
BEGIN:VEVENT
DTSTART;TZID=Europe/Paris:20221018T083000
DTEND;TZID=Europe/Paris:20221018T223000
DTSTAMP:20260423T135244
CREATED:20220914T093413Z
LAST-MODIFIED:20220914T093413Z
UID:2800-1666081800-1666132200@www.frenchtechcotedazur.fr
SUMMARY:Tourisme Durable par le Village by CA PCA : 18 octobre
DESCRIPTION: Journée Tourisme Durable : Vers une hôtellerie plus vertueuse -par le Village by CA PCA \n\n\nEn partenariat avec la French Tech Côte d’Azur\, la filière tourisme/mer du Crédit Agricole Provence Côte d’Azur et le Village by CA PCA vous invite à participer à une journée dédiée au monde de l’hôtellerie le 18 octobre prochain \nStartup\, vous avez une solution innovante ou RSE pour les professionnels du monde l’hébergement\, et vous souhaitez vous donner de la visibilité ainsi de créer des opportunités business? \nParticiper à l’événement: \n\nen tant qu’exposant dans le cadre du partenariat avec French Tech Côte d’Azur\, vous pourrez exposer votre solution\nen tant que participant vous aurez la possibilité d’accéder à l’ensemble des conférences\, tables rondes et ateliers organisés sur site. Veuillez trouver les modalités d’inscription et le déroulement de la journée: ici\nsous forme de rendez-vous business en one to one\, en format présentiel ou distanciel\, via inscription avant le 3 octobre sur une plateforme dédiée en cliquant ici qui sera ensuite transmise aux entreprises de l’hébergement de notre région mais aussi de façon nationale à travers les réseaux Village by CA et Filière tourisme du Crédit Agricole.\n\nCe premier rendez-vous sur le thème du Tourisme Durable a pour objectifs : \n\nd’apporter de la visibilité aux acteurs clés qui mènent des actions pour un modèle plus vertueux et plus durable sur le monde de l’hôtellerie\nd’apporter des solutions innovantes à cet écosystème\nde valoriser les métiers et les formations dédiés à ce secteur d’activité.\nd’amener de l’inspiration et de renforcer la collaboration entre les acteurs clés de notre territoire azuréen et régional.\n\nPour toute demande de renseignement\, vous pouvez contacter Aurélien Lallemant par e-mail à cette adresse:  aurelien.lallemant@levillagebyca.com
URL:https://www.frenchtechcotedazur.fr/event/tourisme-durable-par-le-village-by-ca-pca-18-octobre/
ATTACH;FMTTYPE=image/png:https://www.frenchtechcotedazur.fr/wp-content/uploads/2022/09/Untitled-design-6.png
END:VEVENT
BEGIN:VEVENT
DTSTART;TZID=Europe/Paris:20221018T140000
DTEND;TZID=Europe/Paris:20221018T193000
DTSTAMP:20260423T135244
CREATED:20221006T081858Z
LAST-MODIFIED:20221018T071943Z
UID:3303-1666101600-1666121400@www.frenchtechcotedazur.fr
SUMMARY:Sophia Security Camp 2022
DESCRIPTION:Événement reporté à une date ultérieure. \nCet événement s’adresse aux DSI\, RSSI\, DAF et chefs d’entreprise de Startups / PME\, ainsi qu’aux professionnels intéressés par le thématique. Des experts reconnus de la cybersécurité et du cloud (ANSSI\, OVHcloud\, Orange Cyberdéfense\, Docaposte\, Kabia\, MOABI\, GSA Prado) feront spécialement le déplacement pour partager leur expertise. \nLa communauté Cybersécurité de Telecom Valley propose une nouvelle édition de Sophia Security Camp à Sophia Antipolis\, sur le thème « Cloud et cybersécurité : l’imprévu ça se prépare ! ». Les directeurs et responsables des systèmes d’information\, les directeurs administratifs et financiers\, ainsi que les entrepreneurs de PME sont invités à venir s’imprégner des bonnes pratiques et du retour d’expérience partagés par plusieurs références en matière de cloud et cybersécurité\, telles que l’Agence Nationale de la Sécurité des Systèmes d’Information ou encore Orange Cyberdéfense. \nLe Mois Européen de la Cybersécurité débute en octobre et avec lui\, une période de promotion des bonnes pratiques en matière de cybersécurité à destination\, notamment\, des entreprises. Dans ce cadre\, la communauté Cybersécurité de Telecom Valley\, animée par Philippe ELIE (Uscale Consulting) et Muriel MOENZA (Orange Business Services)\, organise la 7ème édition de Sophia Security Camp. \nCette demi-journée de conférences et table-ronde\, destinée aux directeurs et responsables des systèmes d’information (DSI / RSSI)\, les directeurs administratifs et financiers (DAF)\, ainsi que les entrepreneurs de PME\, vise à leur apporter des clés de lecture pour comprendre les enjeux de la sécurité du numérique et leur permettre de sécuriser leur entreprise face aux risques cyber. \nCette année\, des experts ont été invités à venir partager leur expertise et expériences sur le thème sensible « Cloud et Cybersécurité : l’imprévu ça se prépare ! ». \nAinsi\, l’Agence Nationale de la Sécurité des Systèmes d’Information (ANSSI)\, structure gouvernementale faisant autorité en la matière\, des industriels (Orange Cyberdéfense\, Docaposte\, OVHcloud)\, des PME (Kabia\, MOABI)\, experts en cloud et cybersécurité\, ainsi qu’un professionnel des assurances de risques cyber (GSA PRADO)\, vont interagir ensemble pour diffuser des bonnes pratiques et aider les entreprises à être mieux préparées. \nPour plus d’informations et pour les inscriptions veuillez cliquer ici 
URL:https://www.frenchtechcotedazur.fr/event/sophia-security-camp-2022/
ATTACH;FMTTYPE=image/jpeg:https://www.frenchtechcotedazur.fr/wp-content/uploads/2022/10/image008.jpg
END:VEVENT
END:VCALENDAR