BEGIN:VCALENDAR
VERSION:2.0
PRODID:-//French Tech Côte d&#039;Azur - ECPv6.15.20//NONSGML v1.0//EN
CALSCALE:GREGORIAN
METHOD:PUBLISH
X-ORIGINAL-URL:https://www.frenchtechcotedazur.fr
X-WR-CALDESC:Évènements pour French Tech Côte d&#039;Azur
REFRESH-INTERVAL;VALUE=DURATION:PT1H
X-Robots-Tag:noindex
X-PUBLISHED-TTL:PT1H
BEGIN:VTIMEZONE
TZID:Europe/Paris
BEGIN:DAYLIGHT
TZOFFSETFROM:+0100
TZOFFSETTO:+0200
TZNAME:CEST
DTSTART:20210328T010000
END:DAYLIGHT
BEGIN:STANDARD
TZOFFSETFROM:+0200
TZOFFSETTO:+0100
TZNAME:CET
DTSTART:20211031T010000
END:STANDARD
BEGIN:DAYLIGHT
TZOFFSETFROM:+0100
TZOFFSETTO:+0200
TZNAME:CEST
DTSTART:20220327T010000
END:DAYLIGHT
BEGIN:STANDARD
TZOFFSETFROM:+0200
TZOFFSETTO:+0100
TZNAME:CET
DTSTART:20221030T010000
END:STANDARD
BEGIN:DAYLIGHT
TZOFFSETFROM:+0100
TZOFFSETTO:+0200
TZNAME:CEST
DTSTART:20230326T010000
END:DAYLIGHT
BEGIN:STANDARD
TZOFFSETFROM:+0200
TZOFFSETTO:+0100
TZNAME:CET
DTSTART:20231029T010000
END:STANDARD
END:VTIMEZONE
BEGIN:VEVENT
DTSTART;TZID=Europe/Paris:20221013T093000
DTEND;TZID=Europe/Paris:20221013T120000
DTSTAMP:20260423T135327
CREATED:20221003T151104Z
LAST-MODIFIED:20221004T151735Z
UID:3299-1665653400-1665662400@www.frenchtechcotedazur.fr
SUMMARY:Atelier French Tech Central
DESCRIPTION:Dans le cadre de French Tech Central\, le prochain atelier en collaboration avec les Douanes aura lieu le jeudi 13 octobre de 9h30 à 12h à la Chambre de Commerce et d’Industrie Nice Côte d’Azur. \nLa thématique : Facilitez l’export avec les acteurs de l’international \n\n\n\n\n\n\n\n\nPlusieurs tables rondes vous permettront de vous informer sur : \n\n\n\n\n\nLes offres d’accompagnement proposées par l’ensemble des partenaires : la Banque de France\, Team France Export\, Enterprise Europe Network\, la Douane\, les conseillers du commerce extérieur de la France et French Tech Côte d’azur\nUn focus spécifique sur l’offre douanière : Comment la Douane peut vous aider à sécuriser et optimiser vos flux à l’international ?\nUne session de Networking clôturera cette matinée.\n\n\n\n\n\n\n\n\n\n\n\n\n\nInscription EN CLIQUANT ICI.
URL:https://www.frenchtechcotedazur.fr/event/3299/
CATEGORIES:french tech central
ATTACH;FMTTYPE=image/png:https://www.frenchtechcotedazur.fr/wp-content/uploads/2022/10/Visuel-Atelier-13.10.22.png
END:VEVENT
END:VCALENDAR