BEGIN:VCALENDAR
VERSION:2.0
PRODID:-//French Tech Côte d&#039;Azur - ECPv6.15.20//NONSGML v1.0//EN
CALSCALE:GREGORIAN
METHOD:PUBLISH
X-WR-CALNAME:French Tech Côte d&#039;Azur
X-ORIGINAL-URL:https://www.frenchtechcotedazur.fr
X-WR-CALDESC:Évènements pour French Tech Côte d&#039;Azur
REFRESH-INTERVAL;VALUE=DURATION:PT1H
X-Robots-Tag:noindex
X-PUBLISHED-TTL:PT1H
BEGIN:VTIMEZONE
TZID:Europe/Paris
BEGIN:DAYLIGHT
TZOFFSETFROM:+0100
TZOFFSETTO:+0200
TZNAME:CEST
DTSTART:20210328T010000
END:DAYLIGHT
BEGIN:STANDARD
TZOFFSETFROM:+0200
TZOFFSETTO:+0100
TZNAME:CET
DTSTART:20211031T010000
END:STANDARD
BEGIN:DAYLIGHT
TZOFFSETFROM:+0100
TZOFFSETTO:+0200
TZNAME:CEST
DTSTART:20220327T010000
END:DAYLIGHT
BEGIN:STANDARD
TZOFFSETFROM:+0200
TZOFFSETTO:+0100
TZNAME:CET
DTSTART:20221030T010000
END:STANDARD
BEGIN:DAYLIGHT
TZOFFSETFROM:+0100
TZOFFSETTO:+0200
TZNAME:CEST
DTSTART:20230326T010000
END:DAYLIGHT
BEGIN:STANDARD
TZOFFSETFROM:+0200
TZOFFSETTO:+0100
TZNAME:CET
DTSTART:20231029T010000
END:STANDARD
END:VTIMEZONE
BEGIN:VEVENT
DTSTART;TZID=Europe/Paris:20221011T083000
DTEND;TZID=Europe/Paris:20221011T170000
DTSTAMP:20260423T135744
CREATED:20220921T131801Z
LAST-MODIFIED:20221003T121838Z
UID:3037-1665477000-1665507600@www.frenchtechcotedazur.fr
SUMMARY:Assises Azuréennes de la Transition Énergétique 2ème édition à Grasse by CCI
DESCRIPTION:Assises Azuréennes de la Transition Énergétique 2ème édition \nLes enjeux de la transition énergétique sont plus que jamais au cœur de la relance azuréenne. \nLa CCI donne rendez-vous aux acteurs économiques\, institutionnels et aux entreprises pour débattre et partager leur engagement en faveur de la transition énergétique. \nNous vous donnons rendez-vous le : \n📍 11 octobre à partir 8h30 au Palais des Congrès de Grasse \nPour plus d’informations et pour s’inscrire merci de CLIQUER ICI.
URL:https://www.frenchtechcotedazur.fr/event/assises-azureennes-de-la-transition-energetique-2eme-edition-a-grasse/
ATTACH;FMTTYPE=image/png:https://www.frenchtechcotedazur.fr/wp-content/uploads/2022/09/Untitled-design-14.png
END:VEVENT
END:VCALENDAR