BEGIN:VCALENDAR
VERSION:2.0
PRODID:-//French Tech Côte d&#039;Azur - ECPv6.15.20//NONSGML v1.0//EN
CALSCALE:GREGORIAN
METHOD:PUBLISH
X-WR-CALNAME:French Tech Côte d&#039;Azur
X-ORIGINAL-URL:https://www.frenchtechcotedazur.fr
X-WR-CALDESC:Évènements pour French Tech Côte d&#039;Azur
REFRESH-INTERVAL;VALUE=DURATION:PT1H
X-Robots-Tag:noindex
X-PUBLISHED-TTL:PT1H
BEGIN:VTIMEZONE
TZID:Europe/Paris
BEGIN:DAYLIGHT
TZOFFSETFROM:+0100
TZOFFSETTO:+0200
TZNAME:CEST
DTSTART:20210328T010000
END:DAYLIGHT
BEGIN:STANDARD
TZOFFSETFROM:+0200
TZOFFSETTO:+0100
TZNAME:CET
DTSTART:20211031T010000
END:STANDARD
BEGIN:DAYLIGHT
TZOFFSETFROM:+0100
TZOFFSETTO:+0200
TZNAME:CEST
DTSTART:20220327T010000
END:DAYLIGHT
BEGIN:STANDARD
TZOFFSETFROM:+0200
TZOFFSETTO:+0100
TZNAME:CET
DTSTART:20221030T010000
END:STANDARD
BEGIN:DAYLIGHT
TZOFFSETFROM:+0100
TZOFFSETTO:+0200
TZNAME:CEST
DTSTART:20230326T010000
END:DAYLIGHT
BEGIN:STANDARD
TZOFFSETFROM:+0200
TZOFFSETTO:+0100
TZNAME:CET
DTSTART:20231029T010000
END:STANDARD
END:VTIMEZONE
BEGIN:VEVENT
DTSTART;TZID=Europe/Paris:20221003T120000
DTEND;TZID=Europe/Paris:20221003T130000
DTSTAMP:20260423T135743
CREATED:20220927T155234Z
LAST-MODIFIED:20220927T155357Z
UID:3181-1664798400-1664802000@www.frenchtechcotedazur.fr
SUMMARY:Démarrer une startup dans l’IA\, comment surmonter les obstacles ? Comment construire ses atouts ? Webinaire by Incubateur PACA EST
DESCRIPTION:Dans le cadre du Sophia Awards l’Incubateur Paca-Est organise un wébinaire. \nVous avez un projet de création de startup dans l’Intelligence Artificielle ? Vous vous intéressez à l’entrepreneuriat dans l’IA ? Vous venez de créer votre entreprise innovante dans le domaine ? \nLes trajectoires des startups de l’IA sont riches d’enseignements. Ce sont autant d’atouts que les organisateurs du SophI.A. Awards souhaitent vous donner\, à vous candidats au concours ! \nNous suivrons le témoignage de Alan FERBACH\, CEO et cofondateur de Videtics\, qui nous fait l’honneur de son Retex. \nParticipez au wébinaire qui se tiendra sur Teams  en répondant à ce formulaire
URL:https://www.frenchtechcotedazur.fr/event/demarrer-une-startup-dans-lia-comment-surmonter-les-obstacles-comment-construire-ses-atouts-temoignage-dalan-ferbach-ceo-cofondateur-de-videtics/
ATTACH;FMTTYPE=image/jpeg:https://www.frenchtechcotedazur.fr/wp-content/uploads/2022/09/logo-sophia-awards-768x432-1.jpeg
END:VEVENT
END:VCALENDAR