BEGIN:VCALENDAR
VERSION:2.0
PRODID:-//French Tech Côte d&#039;Azur - ECPv6.15.20//NONSGML v1.0//EN
CALSCALE:GREGORIAN
METHOD:PUBLISH
X-WR-CALNAME:French Tech Côte d&#039;Azur
X-ORIGINAL-URL:https://www.frenchtechcotedazur.fr
X-WR-CALDESC:Évènements pour French Tech Côte d&#039;Azur
REFRESH-INTERVAL;VALUE=DURATION:PT1H
X-Robots-Tag:noindex
X-PUBLISHED-TTL:PT1H
BEGIN:VTIMEZONE
TZID:Europe/Paris
BEGIN:DAYLIGHT
TZOFFSETFROM:+0100
TZOFFSETTO:+0200
TZNAME:CEST
DTSTART:20210328T010000
END:DAYLIGHT
BEGIN:STANDARD
TZOFFSETFROM:+0200
TZOFFSETTO:+0100
TZNAME:CET
DTSTART:20211031T010000
END:STANDARD
BEGIN:DAYLIGHT
TZOFFSETFROM:+0100
TZOFFSETTO:+0200
TZNAME:CEST
DTSTART:20220327T010000
END:DAYLIGHT
BEGIN:STANDARD
TZOFFSETFROM:+0200
TZOFFSETTO:+0100
TZNAME:CET
DTSTART:20221030T010000
END:STANDARD
BEGIN:DAYLIGHT
TZOFFSETFROM:+0100
TZOFFSETTO:+0200
TZNAME:CEST
DTSTART:20230326T010000
END:DAYLIGHT
BEGIN:STANDARD
TZOFFSETFROM:+0200
TZOFFSETTO:+0100
TZNAME:CET
DTSTART:20231029T010000
END:STANDARD
END:VTIMEZONE
BEGIN:VEVENT
DTSTART;VALUE=DATE:20220412
DTEND;VALUE=DATE:20220413
DTSTAMP:20260423T215716
CREATED:20220314T161215Z
LAST-MODIFIED:20220314T161215Z
UID:1696-1649721600-1649807999@www.frenchtechcotedazur.fr
SUMMARY:FID MED Riviera
DESCRIPTION:Le FID MED (le Financial Innovation Day Méditerranée) revient sur la Côte d’Azur pour une édition spéciale Intelligence Artificielle\, le 12 avril 2022 à la Maison de l’Intelligence Artificielle à Sophia Antipolis.\nCréée en 2015 à Marseille (édition « Provence »)\, le FID MED s’est imposé comme LE rendez-vous dédié au financement de l’innovation et des entreprises innovantes dans le Sud. Il poursuit son développement avec la création de l’édition « Riviera » en 2019 à Sophia Antipolis\, en collaboration avec les associations Télécom Valley et Medinsoft. \nL’objectif de cet événement est double : \n\ncontribuer à l’émergence et au développement des entreprises innovantes du territoire\, en présentant les nouvelles tendances du financement de l’innovation\nétablir une passerelle entre les entrepreneurs et les acteurs du financement
URL:https://www.frenchtechcotedazur.fr/event/fid-med-riviera/
LOCATION:Maison de l’Intelligence Artificielle\, 1361 Rte des Lucioles\, Biot\, 06410\, France
CATEGORIES:sophia antipolis
ATTACH;FMTTYPE=image/png:https://www.frenchtechcotedazur.fr/wp-content/uploads/2022/03/save-the-date.png
END:VEVENT
END:VCALENDAR